BEGIN:VCALENDAR
VERSION:2.0
PRODID:-// - ECPv5.3.1.1//NONSGML v1.0//EN
CALSCALE:GREGORIAN
METHOD:PUBLISH
X-ORIGINAL-URL:https://questoftales.com
X-WR-CALDESC:Events for 
BEGIN:VTIMEZONE
TZID:UTC
BEGIN:STANDARD
TZOFFSETFROM:+0000
TZOFFSETTO:+0000
TZNAME:UTC
DTSTART:20250101T000000
END:STANDARD
END:VTIMEZONE
BEGIN:VEVENT
DTSTART;TZID=UTC:20250411T080000
DTEND;TZID=UTC:20250414T170000
DTSTAMP:20260424T145125
CREATED:20250216T200447Z
LAST-MODIFIED:20250216T200447Z
UID:1889-1744358400-1744650000@questoftales.com
SUMMARY:Blind Badasses na Interpret Europe konferenciji
DESCRIPTION:Godišnja konferencija organizacije Interpret Europe pod nazivom Heroes\, anti-heroes and villains održava se ovog travnja. Ako ste tamo\, dođite i na predavanje Blind Badasses – Turning Tales of Historical Underdogs into Interpretive Experiences.  \nFoto: Darko Mareš
URL:https://questoftales.com/kalendar/blind-badasses-na-interpret-europe-konferenciji/
CATEGORIES:konferencija,najave,predavanje
ATTACH;FMTTYPE=image/jpeg:https://questoftales.com/wp-content/uploads/2025/02/C1_exp_darkomares_2024-09-07_15-46-55_v1_EXP_2048.jpg
END:VEVENT
END:VCALENDAR