BEGIN:VCALENDAR
VERSION:2.0
PRODID:-// - ECPv5.3.1.1//NONSGML v1.0//EN
CALSCALE:GREGORIAN
METHOD:PUBLISH
X-ORIGINAL-URL:https://questoftales.com
X-WR-CALDESC:Events for 
BEGIN:VTIMEZONE
TZID:UTC
BEGIN:STANDARD
TZOFFSETFROM:+0000
TZOFFSETTO:+0000
TZNAME:UTC
DTSTART:20180101T000000
END:STANDARD
END:VTIMEZONE
BEGIN:VEVENT
DTSTART;TZID=UTC:20180525T160000
DTEND;TZID=UTC:20180525T200000
DTSTAMP:20260421T040923
CREATED:20180522T131448Z
LAST-MODIFIED:20180522T131714Z
UID:447-1527264000-1527278400@questoftales.com
SUMMARY:Culturecovery radionica: Storytelling i interpretacija baštine
DESCRIPTION:Pridružite se zanimljivoj radionici u sklopu projekta Culturecovery ovog petka u Rovinju. Delia Quarantotto će nas povesti u obilazak i ispričati nam brojne zanimljivosti. Potom slijedi radionica tijekom koje ću pojasniti neke trikove osobne interpretacije baštine. Radionica će se održati u Ekomuzeju Batana. Radionica je besplatna za sudionike\, namijenjena je svima koji vole batanu\, ribolov\, Rovinj\, šetnje\, pripovijedanje\, more i baštinu.  A najviše će koristiti onima koji imaju prilike predstavljati baštinu posjetiteljima.  \nSve informacije pronađite na facebook stranici eventa.
URL:https://questoftales.com/kalendar/culturecovery-radionica-storytelling-i-interpretacija-bastine/
LOCATION:Eko-muzej batana\, Rovinj
END:VEVENT
END:VCALENDAR