BEGIN:VCALENDAR
VERSION:2.0
PRODID:-// - ECPv5.3.1.1//NONSGML v1.0//EN
CALSCALE:GREGORIAN
METHOD:PUBLISH
X-ORIGINAL-URL:https://questoftales.com
X-WR-CALDESC:Events for 
BEGIN:VTIMEZONE
TZID:UTC
BEGIN:STANDARD
TZOFFSETFROM:+0000
TZOFFSETTO:+0000
TZNAME:UTC
DTSTART:20210101T000000
END:STANDARD
END:VTIMEZONE
BEGIN:VEVENT
DTSTART;TZID=UTC:20210614T100000
DTEND;TZID=UTC:20210617T110000
DTSTAMP:20260420T204356
CREATED:20210601T173829Z
LAST-MODIFIED:20210609T052443Z
UID:1115-1623664800-1623927600@questoftales.com
SUMMARY:Interpretacija prirodne baštine u funkciji održivog razvoja turizma\, gospodarstva i zaštite okoliša
DESCRIPTION:14.\, 15. i 17.6. u terminu od 10 do 11 sati održat će se edukacija pod nazivom “Interpretacija prirodne baštine u funkciji održivog razvoja turizma\, gospodarstva i zaštite okoliša.” \nEdukacija će se održati online putem platforme Zoom. Prijavite se putem sljedećeg linka: \nwww.tiny.cc/interpretacija \nViše informacija pronađite ovdje.
URL:https://questoftales.com/kalendar/edukacije-u-sklopu-projekta-parkovni-biseri-slavonije/
CATEGORIES:edukacija,najave,predavanje,radionica
ATTACH;FMTTYPE=image/jpeg:https://questoftales.com/wp-content/uploads/2021/06/IMG_6571-scaled.jpg
END:VEVENT
END:VCALENDAR