BEGIN:VCALENDAR
VERSION:2.0
PRODID:-// - ECPv5.3.1.1//NONSGML v1.0//EN
CALSCALE:GREGORIAN
METHOD:PUBLISH
X-ORIGINAL-URL:https://questoftales.com
X-WR-CALDESC:Events for 
BEGIN:VTIMEZONE
TZID:UTC
BEGIN:STANDARD
TZOFFSETFROM:+0000
TZOFFSETTO:+0000
TZNAME:UTC
DTSTART:20240101T000000
END:STANDARD
END:VTIMEZONE
BEGIN:VEVENT
DTSTART;TZID=UTC:20240722T200000
DTEND;TZID=UTC:20240722T213000
DTSTAMP:20260421T040535
CREATED:20240505T132228Z
LAST-MODIFIED:20240722T075222Z
UID:1632-1721678400-1721683800@questoftales.com
SUMMARY:Frankopanska avantura na Hreljinu
DESCRIPTION:OBAVIJEST: Otkazano zbog lošeg vremena! \nJoš jedna prilika za Frankopansku avanturu u pratnji vodiča stiže nam povodom Margaretinog leta\, tradicionalne bakarske manifestacije. Događanje se trebalo održati u lipnju\, ali su nas u dva navrata rastjerali sumnjivi oblaci.\nTreća sreća stiže u ponedjeljak 22.7. u 20:00 sati.  \nSastat ćemo se kod Dječjeg vrtića Hreljin\, a onda zajedno otkrivati tajne vlasnika Hreljina\, putem otključavajući zagonetke.  \nFrankopansku avanturu možete isprobati i sami jer je zamišljena upravo kao aktivnost za samostalno upoznavanje prošlosti starog grada Hreljina. Svratite do turističkog ureda u Bakru i preuzmite letak s uputama\, ili potražite ploču s uputama kraj Dječjeg vrtića.  \nPhoto: TZ Grada Bakra
URL:https://questoftales.com/kalendar/frankopanska-avantura-na-hreljinu/
ATTACH;FMTTYPE=image/jpeg:https://questoftales.com/wp-content/uploads/2024/05/438162059_1153475996096394_1787030826657283515_n.jpg
END:VEVENT
END:VCALENDAR