BEGIN:VCALENDAR
VERSION:2.0
PRODID:-// - ECPv5.3.1.1//NONSGML v1.0//EN
CALSCALE:GREGORIAN
METHOD:PUBLISH
X-ORIGINAL-URL:https://questoftales.com
X-WR-CALDESC:Events for 
BEGIN:VTIMEZONE
TZID:UTC
BEGIN:STANDARD
TZOFFSETFROM:+0000
TZOFFSETTO:+0000
TZNAME:UTC
DTSTART:20180101T000000
END:STANDARD
END:VTIMEZONE
BEGIN:VEVENT
DTSTART;TZID=UTC:20180526T183000
DTEND;TZID=UTC:20180526T193000
DTSTAMP:20260421T010305
CREATED:20180517T091526Z
LAST-MODIFIED:20180517T091526Z
UID:442-1527359400-1527363000@questoftales.com
SUMMARY:Granica vilinskog svijeta nalazi se u Lukavcu
DESCRIPTION:I ove godine se vidimo na mističnom Perunfestu\, jedinstvenom festivalu zaboravljenih priča i narodnih predaja koji se održava 26.i 27. svibnja u Lukavcu kraj Velike Gorice. \nProučite program festivala\, a mi se vidimo u subotu 26.5. u 18:30 u Velikoj dvorani dvorca na predavanju “Na granici vilinskog svijeta.” \nTijekom predavanja\, dosjetit ćemo se gdje se nalazi granica između svijeta vila i svijeta ljudi. Kroz motive iz hrvatske narodne predaje\, umjetnosti i toponime\, odgonetnut ćemo gdje se sve kriju ta čudesna bića. Prisjetit ćemo se koje im odlike naš narod pripisuje. Koje su vile najopasnije\, a koje najblaže\, susreću li i danas ljudi vile i što o njima pričaju… začinjeno pokojom pripovijesti iz davnina\, ovo predavanje se oslanja na bogatu škrinjicu narodnih vjerovanja koju ćemo zajedno istražiti. \n\nFoto: Iva Lulić
URL:https://questoftales.com/kalendar/granica-vilinskog-svijeta-nalazi-se-u-lukavcu/
CATEGORIES:najave,predavanje
ATTACH;FMTTYPE=image/jpeg:https://questoftales.com/wp-content/uploads/2017/10/IMG_0728.jpg
END:VEVENT
END:VCALENDAR