BEGIN:VCALENDAR
VERSION:2.0
PRODID:-// - ECPv5.3.1.1//NONSGML v1.0//EN
CALSCALE:GREGORIAN
METHOD:PUBLISH
X-ORIGINAL-URL:https://questoftales.com
X-WR-CALDESC:Events for 
BEGIN:VTIMEZONE
TZID:UTC
BEGIN:STANDARD
TZOFFSETFROM:+0000
TZOFFSETTO:+0000
TZNAME:UTC
DTSTART:20210101T000000
END:STANDARD
END:VTIMEZONE
BEGIN:VEVENT
DTSTART;TZID=UTC:20210325T170000
DTEND;TZID=UTC:20210325T173000
DTSTAMP:20260421T010226
CREATED:20210321T135758Z
LAST-MODIFIED:20210321T135758Z
UID:1030-1616691600-1616693400@questoftales.com
SUMMARY:Karijeroteka - kulturni turizam
DESCRIPTION:Zadnja dva četvrtka u mjesecu zaklada Znanje na djelu / Wissen am Werk organizira Karijeroteku – online razgovore s predstavnicima raznih\, često neuobičajenih\, djelatnosti. Karijeroteka je namijenjena prvenstveno učenicima osmog razreda osnovne škole i srednjoškolcima\, ali zanimljiva je i mnogo širem krugu ljudi. Učenicima nudi novi pogled na poslovne mogućnosti i priliku da pitaju sve što ih zanima o određenom području.\n \n\n\n\n\n\nŠTO JE KARIJEROTEKA \n \nAko vas interesira kako je to raditi i stvarati u kulturnom turizmu\, vidimo se u četvrtak! Pogledajte prethodne razgovore u Karijerotekinoj online videoteci\, a za četvrtak se prijavite na ovom linku: \nhttps://zoom.us/webinar/register/WN_0__DO-XATkmuibQZyCVyRQ \n 
URL:https://questoftales.com/kalendar/karijeroteka-kulturni-turizam/
END:VEVENT
END:VCALENDAR