BEGIN:VCALENDAR
VERSION:2.0
PRODID:-// - ECPv5.3.1.1//NONSGML v1.0//EN
CALSCALE:GREGORIAN
METHOD:PUBLISH
X-ORIGINAL-URL:https://questoftales.com
X-WR-CALDESC:Events for 
BEGIN:VTIMEZONE
TZID:UTC
BEGIN:STANDARD
TZOFFSETFROM:+0000
TZOFFSETTO:+0000
TZNAME:UTC
DTSTART:20180101T000000
END:STANDARD
END:VTIMEZONE
BEGIN:VEVENT
DTSTART;TZID=UTC:20180524T180000
DTEND;TZID=UTC:20180524T193000
DTSTAMP:20260421T053312
CREATED:20180523T074452Z
LAST-MODIFIED:20180523T074452Z
UID:451-1527184800-1527190200@questoftales.com
SUMMARY:Nostalgična šetnja Ilicom 24.5. u 18:00
DESCRIPTION:Pridružite se šetnji Ilicom u sklopu Projekt Ilica: Q’art u četvrtak 24.5.2018. u 18:00 u Tomićevojh ulici ispod uspinjače.  U obilazak će vas povesti Iva Silla. \nIlica nosi potpise znamenitih zagrebačkih arhitekata i čuva sjećanja na velike Zagrepčane. Zajedno ćemo se prisjetiti gostoljubivosti Ilice kroz priče o njenim hotelima\, zamišljati žamor koji dopire iz utihlih kavana i pajzla\, prebirati po davnim trgovinama i obrtničkim radnjama te smišljati što možemo učiniti da Ilica očuva svoje prepoznatljivo lice. \nSlojevi Ilice govore o razvoju\, promjenama\, planovima i kretanjima. Nekad su ta kretanja vodila naprijed\, a katkada prema oronulosti i zaboravu. Dođite na šetnjicu i učinimo zajedno jedan korak prema novom životu ulice. Šetnja je besplatna i nije potrebna najava. \nUživajte u bogatom programu Projekta Ilica: Q’art \n\nFoto: Marina Paulenka
URL:https://questoftales.com/kalendar/nostalgicna-setnja-ilicom-24-5-u-1800/
ATTACH;FMTTYPE=image/jpeg:https://questoftales.com/wp-content/uploads/2017/10/projektilica.jpg
END:VEVENT
END:VCALENDAR