BEGIN:VCALENDAR
VERSION:2.0
PRODID:-// - ECPv5.3.1.1//NONSGML v1.0//EN
CALSCALE:GREGORIAN
METHOD:PUBLISH
X-ORIGINAL-URL:https://questoftales.com
X-WR-CALDESC:Events for 
BEGIN:VTIMEZONE
TZID:UTC
BEGIN:STANDARD
TZOFFSETFROM:+0000
TZOFFSETTO:+0000
TZNAME:UTC
DTSTART:20200101T000000
END:STANDARD
END:VTIMEZONE
BEGIN:VEVENT
DTSTART;TZID=UTC:20200717T100000
DTEND;TZID=UTC:20200717T200000
DTSTAMP:20260420T234258
CREATED:20200713T122320Z
LAST-MODIFIED:20200713T122320Z
UID:841-1594980000-1595016000@questoftales.com
SUMMARY:Odigraj Hirčevu tajnu razinu
DESCRIPTION:IGRIFICIRANO ISTRAŽIVANJE PONIKAVA \nJoš jedna maštovita suradnja s Turističkom zajednicom Grada Bakra vodi nas u petak 17.7. na područje prirodnog fenomena Ponikve gdje ću održati obilazak kroz igru. Više informacija pronađite u zasebnom članku: Tajni nivo igre prirode.
URL:https://questoftales.com/kalendar/odigraj-hircevu-tajnu-razinu/
LOCATION:Ponikve
CATEGORIES:najave,razgled
END:VEVENT
END:VCALENDAR