BEGIN:VCALENDAR
VERSION:2.0
PRODID:-// - ECPv5.3.1.1//NONSGML v1.0//EN
CALSCALE:GREGORIAN
METHOD:PUBLISH
X-ORIGINAL-URL:https://questoftales.com
X-WR-CALDESC:Events for 
BEGIN:VTIMEZONE
TZID:UTC
BEGIN:STANDARD
TZOFFSETFROM:+0000
TZOFFSETTO:+0000
TZNAME:UTC
DTSTART:20210101T000000
END:STANDARD
END:VTIMEZONE
BEGIN:VEVENT
DTSTART;TZID=UTC:20210326T090000
DTEND;TZID=UTC:20210326T130000
DTSTAMP:20260420T234423
CREATED:20210218T182801Z
LAST-MODIFIED:20210321T135402Z
UID:977-1616749200-1616763600@questoftales.com
SUMMARY:Pro-Youth završna konferencija
DESCRIPTION:U proteklom sam periodu imala veliko zadovoljstvo sudjelovati u razvoju edukativnih materijala i treninga za projekt PRO-YOUTH. Hrvatski partner zaklada Znanje na djelu organizira završnu nacionalnu konferenciju u petak 26.3.2021. putem ZOOM platforme. Sudjelovanje je besplatno\, a prijavite se putem ovog linka: \nAutentičnost\, stvaralaštvo i sudjelovanje
URL:https://questoftales.com/kalendar/pro-youth-zavrsna-konferencija/
CATEGORIES:konferencija,najave
END:VEVENT
END:VCALENDAR