BEGIN:VCALENDAR
VERSION:2.0
PRODID:-// - ECPv5.3.1.1//NONSGML v1.0//EN
CALSCALE:GREGORIAN
METHOD:PUBLISH
X-ORIGINAL-URL:https://questoftales.com
X-WR-CALDESC:Events for 
BEGIN:VTIMEZONE
TZID:UTC
BEGIN:STANDARD
TZOFFSETFROM:+0000
TZOFFSETTO:+0000
TZNAME:UTC
DTSTART:20180101T000000
END:STANDARD
END:VTIMEZONE
BEGIN:VEVENT
DTSTART;TZID=UTC:20180512T090000
DTEND;TZID=UTC:20180513T160000
DTSTAMP:20260422T100257
CREATED:20180513T203417Z
LAST-MODIFIED:20180517T091719Z
UID:436-1526115600-1526227200@questoftales.com
SUMMARY:Radionica Poruke i priče u sklopu projekta KulTERRA
DESCRIPTION:Ovog će se vikenda u istarskom gradiću Svetvinčentu održati radionica Poruke i priče za sudionike projekta revitalizacije dvaju istarskih kaštela KulTERRA. Jedan od tih kaštela je Morosini – Grimani u Svetvinčentu. Kroz nešto teorije\, mnoštvo vježbi i dosta praktične primjene znanja\, sudionici će u samo dva dana stvoriti kratke rute korištenjem metoda osobne interpretacije i elemenata pripovijedanja. \n 
URL:https://questoftales.com/kalendar/radionica-poruke-i-price-u-sklopu-projekta-kulterra/
CATEGORIES:predavanje
ATTACH;FMTTYPE=image/jpeg:https://questoftales.com/wp-content/uploads/2018/05/IMG_0436-e1526242609501.jpg
END:VEVENT
END:VCALENDAR