BEGIN:VCALENDAR
VERSION:2.0
PRODID:-// - ECPv5.3.1.1//NONSGML v1.0//EN
CALSCALE:GREGORIAN
METHOD:PUBLISH
X-ORIGINAL-URL:https://questoftales.com
X-WR-CALDESC:Events for 
BEGIN:VTIMEZONE
TZID:UTC
BEGIN:STANDARD
TZOFFSETFROM:+0000
TZOFFSETTO:+0000
TZNAME:UTC
DTSTART:20180101T000000
END:STANDARD
END:VTIMEZONE
BEGIN:VEVENT
DTSTART;TZID=UTC:20180623T180000
DTEND;TZID=UTC:20180623T220000
DTSTAMP:20260422T095958
CREATED:20180612T080338Z
LAST-MODIFIED:20180617T131300Z
UID:454-1529776800-1529791200@questoftales.com
SUMMARY:Šetnja s divicom Margaretom u Bakru
DESCRIPTION:Uz bakarski se žal ove godine gospodnje 1418. svašta priča. Kažu da premili kneževi Krčki namjeravaju nadograditi kaštel koji će nad bakarskim zaljevom bdjeti još stoljećima. Govorkaju da je Fridrik izgubio naklonost prema njenoj milosti gospi Elizabeti. Čak se šire glasine da je s grofovima Celjskim i kneževima Krčkim u Bakar stigla naprava koja putuje kroz vrijeme! S plemićima je u grad stigao i netko tko zna sve njihove tajne – gospodska divica Margareta. Pođite s njom u šetnju skrovitim uličicama daleko od očiju gospodara. Pred suton najdužeg dana\, čekat će vas gdje bistra voda dodiruje plavetno more. \n\nU prijevodu\, sljedeću subotu družimo se u Bakru. Ovaj prekrasni gradić krije toliko priča da je kroz protekle tjedne najveća muka bila odabir onih najzanimljivijih kako bi sve bilo spremno za Šetnju s divicom Margaretom koja će se održati na samom početku tradicionalne bakarske manifestacije Margaretino leto. Pridružite se ovom maštovitom razgledu Bakra. Kako se ove godine obilježava i 900 godina Frankopana\, i mi ćemo otputovati u njihovo vrijeme\, šest stoljeća unatrag;) \n\nŠetnja s divicom Margaretom \nVrijeme: 23.6.2018. u 18:00 i 20:00 \nMjesto: kraj perila u Bakru \nTrajanje: oko 1:30 h \nObilazak je besplatan\, najava nije potrebna. \nDivica Margareta: Iva Silla; Elizabeta Frankopan: Marjeta Trkman Kravar \n\n 
URL:https://questoftales.com/kalendar/setnja-s-divicom-margaretom-u-bakru/
LOCATION:Perilo\, Bakar
ATTACH;FMTTYPE=image/jpeg:https://questoftales.com/wp-content/uploads/2018/06/IMG_0467.jpg
END:VEVENT
END:VCALENDAR