BEGIN:VCALENDAR
VERSION:2.0
PRODID:-// - ECPv5.3.1.1//NONSGML v1.0//EN
CALSCALE:GREGORIAN
METHOD:PUBLISH
X-ORIGINAL-URL:https://questoftales.com
X-WR-CALDESC:Events for 
BEGIN:VTIMEZONE
TZID:UTC
BEGIN:STANDARD
TZOFFSETFROM:+0000
TZOFFSETTO:+0000
TZNAME:UTC
DTSTART:20240101T000000
END:STANDARD
END:VTIMEZONE
BEGIN:VEVENT
DTSTART;TZID=UTC:20241026T110000
DTEND;TZID=UTC:20241026T130000
DTSTAMP:20260421T010514
CREATED:20241001T083611Z
LAST-MODIFIED:20241001T090206Z
UID:1784-1729940400-1729947600@questoftales.com
SUMMARY:Šetnja s Ivanom
DESCRIPTION:Pripovjedačka šetnja jedna je od čak tri maštovite šetnje koje će se odviti u tri Ivanina grada\, a sve u organizaciji Mjeseca hrvatske knjige.\nObavezne rezervacije\, a informacije o načinu prijave bit će dostupne na donjem linku 14.10.
URL:https://questoftales.com/kalendar/setnja-s-ivanom/
CATEGORIES:razgled
ATTACH;FMTTYPE=image/png:https://questoftales.com/wp-content/uploads/2024/10/Setnja-s-ivanom.png
END:VEVENT
END:VCALENDAR