BEGIN:VCALENDAR
VERSION:2.0
PRODID:-// - ECPv5.3.1.1//NONSGML v1.0//EN
CALSCALE:GREGORIAN
METHOD:PUBLISH
X-ORIGINAL-URL:https://questoftales.com
X-WR-CALDESC:Events for 
BEGIN:VTIMEZONE
TZID:UTC
BEGIN:STANDARD
TZOFFSETFROM:+0000
TZOFFSETTO:+0000
TZNAME:UTC
DTSTART:20210101T000000
END:STANDARD
END:VTIMEZONE
BEGIN:VEVENT
DTSTART;TZID=UTC:20210613T150000
DTEND;TZID=UTC:20210613T163000
DTSTAMP:20260420T221420
CREATED:20210504T082505Z
LAST-MODIFIED:20210609T051306Z
UID:1086-1623596400-1623601800@questoftales.com
SUMMARY:Stvaranje igrificiranog istraživanja - radionica na SFeraKonu
DESCRIPTION:Igrificirana istraživanja destinacija mogu udahnuti život najraznolikijim lokalitetima. Poslušajte kratko predavanje o igrifikaciji za posjetitelje\, a zatim se okušajte i sami u stvaranju igre u parku Ribnjak. Ova radionica može biti korisna svima koji se u svom radu susreću s posjetiteljima\, a zanimljiva baš svima. \nPročitajte više o svim radionicama i kvizovima na SFeraKonu 2021: https://sferakon.org/2021/radionice-i-kvizovi-na-sferakonu-2021/ \nRaspored pronađite ovdje: https://sferakon.org/wp-content/uploads/2021/06/SATNICA_SFeraKon_2021_V06.pdf
URL:https://questoftales.com/kalendar/stvaranje-igrificiranog-istrazivanja-na-sferakonu/
CATEGORIES:najave,radionica
ATTACH;FMTTYPE=image/jpeg:https://questoftales.com/wp-content/uploads/2020/07/IMG_6920-scaled.jpg
END:VEVENT
END:VCALENDAR