BEGIN:VCALENDAR
VERSION:2.0
PRODID:-// - ECPv5.3.1.1//NONSGML v1.0//EN
CALSCALE:GREGORIAN
METHOD:PUBLISH
X-ORIGINAL-URL:https://questoftales.com
X-WR-CALDESC:Events for 
BEGIN:VTIMEZONE
TZID:UTC
BEGIN:STANDARD
TZOFFSETFROM:+0000
TZOFFSETTO:+0000
TZNAME:UTC
DTSTART:20210101T000000
END:STANDARD
END:VTIMEZONE
BEGIN:VEVENT
DTSTART;TZID=UTC:20210524T173000
DTEND;TZID=UTC:20210524T190000
DTSTAMP:20260420T234024
CREATED:20210521T110631Z
LAST-MODIFIED:20210521T110631Z
UID:1109-1621877400-1621882800@questoftales.com
SUMMARY:Svijet tura i aktivnosti - pogled iz tajnog Zagreba - online predavanje na Veleučilištu Baltazar
DESCRIPTION:Pozivamo vas na otvoreno predavanje u organizaciji usmjerenja Menadžment u kulturi na temu „Svijet tura i aktivnosti – pogled iz tajnog Zagreba“ koje će u ponedjeljak 24. 5. 2021. od 17:30 do 19:00 sati održati Iva Silla iz organizacije Secret Zagreb. \nPredavanje će se održati ONLINE\, a link za pristup predavanju dostupan je OVDJE. \nSAŽETAK PREDAVANJA:\nMale tvrtke za ture i aktivnosti diljem svijeta suočavaju se sa sličnim radostima i poteškoćama. Saznajte iz prve ruke kako je upravljati takvom tvrtkom i njenim projektima te kako smo odgovorili na pandemijske izazove. Kroz primjer programa Secret Zagreb\, predstavit će se suvremeni trendovi u turističkom vođenju poput tematskih\, kostimiranih i igrificiranih razgleda. \nO PREDAVAČICI: Iva Silla je autorica i voditeljica programa Secret Zagreb\, brenda koji okuplja niz tematskih šetnji i igrificiranih tura. Iva je pokrenula Secret Zagreb u vidu bloga prije 10 godina\, a sami razgledi su na tržištu više od osam godina. Uključena je i u brojne domaće i međunarodne edukativne projekte na polju kulturnog turizma kao trenerica i autorica sadržaja. Uz Secret Zagreb\, Iva vodi podcast Croatia Underrated i projekt igrificiranih istraživanja nepoznatih destinacija Playful Croatia. \n\nTekst najave preuzet s web stranice Veleučilišta Baltazar. Izvorni tekst pronađite ovdje.
URL:https://questoftales.com/kalendar/svijet-tura-i-aktivnosti-pogled-iz-tajnog-zagreba-online-predavanje-na-veleucilistu-baltazar/
END:VEVENT
END:VCALENDAR