BEGIN:VCALENDAR
VERSION:2.0
PRODID:-// - ECPv5.3.1.1//NONSGML v1.0//EN
CALSCALE:GREGORIAN
METHOD:PUBLISH
X-ORIGINAL-URL:https://questoftales.com
X-WR-CALDESC:Events for 
BEGIN:VTIMEZONE
TZID:UTC
BEGIN:STANDARD
TZOFFSETFROM:+0000
TZOFFSETTO:+0000
TZNAME:UTC
DTSTART:20260101T000000
END:STANDARD
END:VTIMEZONE
BEGIN:VEVENT
DTSTART;TZID=UTC:20260413T080000
DTEND;TZID=UTC:20260422T170000
DTSTAMP:20260422T084035
CREATED:20260210T154939Z
LAST-MODIFIED:20260210T154939Z
UID:2239-1776067200-1776877200@questoftales.com
SUMMARY:Tečaj za vodiče interpretatore - zatvorena grupa
DESCRIPTION:Ovog proljeća održavam tečaj za vodiče interpretatore u Zagrebačkoj županiji\, ali je za zatvorenu grupu korisnika i ne mogu se pridružiti druge osobe. Ovdje stavljam obavijest jer možda nađete informaciju o tečaju na web stranici Interpret Europe pa vam možda ova informacija skrati put istraživanja.  \nNadam se da će u svibnju biti jedan tečaj otvorenog tipa\, ali za pisce interpretatore\, i to u Zagrebu\, ali još moramo malo pričekati za detaljne informacije. 
URL:https://questoftales.com/kalendar/tecaj-za-vodice-interpretatore-zatvorena-grupa/
CATEGORIES:edukacija,radionica
END:VEVENT
END:VCALENDAR