BEGIN:VCALENDAR
VERSION:2.0
PRODID:-// - ECPv5.3.1.1//NONSGML v1.0//EN
CALSCALE:GREGORIAN
METHOD:PUBLISH
X-ORIGINAL-URL:https://questoftales.com
X-WR-CALDESC:Events for 
BEGIN:VTIMEZONE
TZID:UTC
BEGIN:STANDARD
TZOFFSETFROM:+0000
TZOFFSETTO:+0000
TZNAME:UTC
DTSTART:20240101T000000
END:STANDARD
END:VTIMEZONE
BEGIN:VEVENT
DTSTART;TZID=UTC:20241109T080000
DTEND;TZID=UTC:20241113T190000
DTSTAMP:20260420T233625
CREATED:20241001T084248Z
LAST-MODIFIED:20241001T084248Z
UID:1786-1731139200-1731524400@questoftales.com
SUMMARY:Tečaj za vodiče interpretatore
DESCRIPTION:Novi tečaj za vodiče interpretatore koji ću voditi u suradnji s Manuelom Hrvatin organizira Turistička zajednica Središnje Istre.  \nFotka prikazuje vodiča interpretatora u akciji tijekom nedavne interpretacijske šetnje Bakrom. Autor fotografije: Miljenko Šegulja
URL:https://questoftales.com/kalendar/tecaj-za-vodice-interpretatore/
CATEGORIES:edukacija
ATTACH;FMTTYPE=image/jpeg:https://questoftales.com/wp-content/uploads/2024/07/DSC_6644.jpg
END:VEVENT
END:VCALENDAR