BEGIN:VCALENDAR
VERSION:2.0
PRODID:-// - ECPv5.3.1.1//NONSGML v1.0//EN
CALSCALE:GREGORIAN
METHOD:PUBLISH
X-ORIGINAL-URL:https://questoftales.com
X-WR-CALDESC:Events for 
BEGIN:VTIMEZONE
TZID:UTC
BEGIN:STANDARD
TZOFFSETFROM:+0000
TZOFFSETTO:+0000
TZNAME:UTC
DTSTART:20210101T000000
END:STANDARD
END:VTIMEZONE
BEGIN:VEVENT
DTSTART;TZID=UTC:20210918T170000
DTEND;TZID=UTC:20210918T180000
DTSTAMP:20260420T172740
CREATED:20210917T142821Z
LAST-MODIFIED:20210917T142821Z
UID:1148-1631984400-1631988000@questoftales.com
SUMMARY:tragoMoguta na Perunfestu
DESCRIPTION:I ove godine se vidimo na Perunfestu! U subotu 18.9. u 17:00 sati pridružite mi se i upoznajte imanje Modić-Bedeković kroz priču i zaigrano istraživanje pod nazivom tragoMoguta. \nDočekat će vas kazivačica u crnom na prostoru ispred drvene kurije i pokazati vam knjigu uspomena starog dvora. Kada otvori knjigu\, iznenadit će nas neočekivani problem! Preostaje nam samo da zazovemo moguta! Mogut nam je ostavio tragove uspomena. Kako ih budemo otkrivali zapažanjem i kroz zagonetke\, tako ćemo otključavati narodna vjerovanja i prošlost same kurije. Naoštrite moždane vijuge i priključite se zagonetnom istraživanju. \nViše informacija: tragoMoguta
URL:https://questoftales.com/kalendar/tragomoguta-na-perunfestu/
CATEGORIES:najave,razgled
ATTACH;FMTTYPE=image/jpeg:https://questoftales.com/wp-content/uploads/2021/09/IMG_0429-scaled.jpg
END:VEVENT
END:VCALENDAR