BEGIN:VCALENDAR
VERSION:2.0
PRODID:-// - ECPv5.3.1.1//NONSGML v1.0//EN
CALSCALE:GREGORIAN
METHOD:PUBLISH
X-ORIGINAL-URL:https://questoftales.com
X-WR-CALDESC:Events for 
BEGIN:VTIMEZONE
TZID:UTC
BEGIN:STANDARD
TZOFFSETFROM:+0000
TZOFFSETTO:+0000
TZNAME:UTC
DTSTART:20210101T000000
END:STANDARD
END:VTIMEZONE
BEGIN:VEVENT
DTSTART;TZID=UTC:20210511T100000
DTEND;TZID=UTC:20210511T130000
DTSTAMP:20260420T221435
CREATED:20210505T065556Z
LAST-MODIFIED:20210505T091639Z
UID:1092-1620727200-1620738000@questoftales.com
SUMMARY:Turistički vodiči - šaptači doživljaja
DESCRIPTION:Usmjeren na očuvanje i prezentaciju prirodne baštine čuvenih dvorskih perivoja Našica i Valpova\, projekt Parkovni biseri Slavonije tijekom sljedećih mjesec dana donosi niz radioničkih i edukacijskih poslastica. \nJedna od njih održat će se i u utorak\, 11. svibnja\, putem Zoom platforme\, u režiji renomiranih interpretatorica i turističkih voditeljica Ive Sille aka Kazivačice i Jelene Holenko Pirc aka Lynx & Fox. \nOve majstorice vodičkog zanata sudionicima će iz prve ruke prenijeti uspješne primjere iz prakse\, tj. smjernice i savjete temeljem kojih mali vodički biznisi mogu opstati na tržištu. Jelena će govoriti o razvoju tura u prirodi u slabije razvijenoj destinaciji (Gorski kotar)\, a Iva o gradskim turama u destinaciji čija je ponuda zasićena (Zagreb). \nEdukacija je namijenjena vodičima i ostalim djelatnicima iz turističkog sektora\, s naglaskom na onima iz Slavonije. Sudjelovanje je besplatno. \nPrijaviti se možete do 10. 5. u podne\, ili do popunjenja radionice\, putem linka: \nhttps://tinyurl.com/saptaci-prijava  \nRaspored: \n10:00-10:30 Iva Silla i Luka Jakopčić: Predstavljanje projekta “Parkovni biseri Slavonije” \n10:30-11:30 Jelena Holenko: Razvoj turističkog proizvoda u turistički nerazvijenom području (na primjeru brenda Lynx & Fox) \n11:30-12:30 Iva Silla: Alternativno turističko vođenje i stvaranje kreativnih turističkih proizvoda (na primjeru brenda Secret Zagreb) \n12:30-13:00 Razmjena ideja i predstavljanje ostalih edukativnih aktivnosti u sklopu projekta “Parkovni biseri Slavonije” \nEdukacija se odvija u okviru uvodno spomenutog projekta “Parkovni biseri Slavonije”\, čiji je nositelj Grad Našice\, dok su partneri Grad Valpovo i Agencija za upravljanje zaštićenim prirodnim vrijednostima Osječko-baranjske županije. Projekt je sufinanciran iz Europskog fonda za regionalni razvoj.
URL:https://questoftales.com/kalendar/turisticki-vodici-saptaci-dozivljaja/
CATEGORIES:edukacija,najave
ATTACH;FMTTYPE=image/jpeg:https://questoftales.com/wp-content/uploads/2021/05/Radionica-za-vodice-web-cover-1.jpg
END:VEVENT
END:VCALENDAR