BEGIN:VCALENDAR
VERSION:2.0
PRODID:-// - ECPv5.3.1.1//NONSGML v1.0//EN
CALSCALE:GREGORIAN
METHOD:PUBLISH
X-ORIGINAL-URL:https://questoftales.com
X-WR-CALDESC:Events for 
BEGIN:VTIMEZONE
TZID:UTC
BEGIN:STANDARD
TZOFFSETFROM:+0000
TZOFFSETTO:+0000
TZNAME:UTC
DTSTART:20250101T000000
END:STANDARD
END:VTIMEZONE
BEGIN:VEVENT
DTSTART;TZID=UTC:20250403T180000
DTEND;TZID=UTC:20250403T190000
DTSTAMP:20260420T203959
CREATED:20250401T103352Z
LAST-MODIFIED:20250401T103352Z
UID:1925-1743703200-1743706800@questoftales.com
SUMMARY:Zagrebački mitovi i legende
DESCRIPTION:Ovog četvrtka 3.4. u 18:00 sati dođite u Centar za mlade Ribnjak po svoju dozu zagrebačkih legendi i mitova. Predavanje je dio ciklusa Zagrebačke priče: stari i novi glasovi.
URL:https://questoftales.com/kalendar/zagrebacki-mitovi-i-legende/
CATEGORIES:najave,predavanje
ATTACH;FMTTYPE=image/jpeg:https://questoftales.com/wp-content/uploads/2025/04/BrankoNad_03-scaled.jpg
END:VEVENT
END:VCALENDAR